BEGIN:VCALENDAR
VERSION:2.0
PRODID:-//FIM Schärding/Andorf - ECPv6.15.14//NONSGML v1.0//EN
CALSCALE:GREGORIAN
METHOD:PUBLISH
X-WR-CALNAME:FIM Schärding/Andorf
X-ORIGINAL-URL:https://familienzentrum.at
X-WR-CALDESC:Veranstaltungen für FIM Schärding/Andorf
REFRESH-INTERVAL;VALUE=DURATION:PT1H
X-Robots-Tag:noindex
X-PUBLISHED-TTL:PT1H
BEGIN:VTIMEZONE
TZID:Europe/Paris
BEGIN:DAYLIGHT
TZOFFSETFROM:+0100
TZOFFSETTO:+0200
TZNAME:CEST
DTSTART:20240331T010000
END:DAYLIGHT
BEGIN:STANDARD
TZOFFSETFROM:+0200
TZOFFSETTO:+0100
TZNAME:CET
DTSTART:20241027T010000
END:STANDARD
BEGIN:DAYLIGHT
TZOFFSETFROM:+0100
TZOFFSETTO:+0200
TZNAME:CEST
DTSTART:20250330T010000
END:DAYLIGHT
BEGIN:STANDARD
TZOFFSETFROM:+0200
TZOFFSETTO:+0100
TZNAME:CET
DTSTART:20251026T010000
END:STANDARD
BEGIN:DAYLIGHT
TZOFFSETFROM:+0100
TZOFFSETTO:+0200
TZNAME:CEST
DTSTART:20260329T010000
END:DAYLIGHT
BEGIN:STANDARD
TZOFFSETFROM:+0200
TZOFFSETTO:+0100
TZNAME:CET
DTSTART:20261025T010000
END:STANDARD
END:VTIMEZONE
BEGIN:VEVENT
DTSTART;TZID=Europe/Paris:20251010T083000
DTEND;TZID=Europe/Paris:20251010T103000
DTSTAMP:20260421T102056
CREATED:20250728T083918Z
LAST-MODIFIED:20251015T091317Z
UID:41004-1760085000-1760092200@familienzentrum.at
SUMMARY:A05_WALK YOUR SOUL - Okt.
DESCRIPTION:Losgehen. Spüren. Achtsam sein. Sich öffnen. Entspannen. Nimm die Natur mit all deinen Sinnen wahr und erlebe\, welche Botschaft sie für dich ganz persönlich bereithält. Verbinde dich mit deiner eigenen Natur\, werde still in dir\, schöpfe Kraft und Vertrauen\,\nund lerne die Natur mit meiner energetischen Begleitung auf einer ganz neuen Ebene kennen. \nUhrzeit: von 8.30 bis 10.30 Uhr\nLeitung: Sabrina Mader\, Natur- und Erlebnispädagogin\, Humanenergetikerin\nKosten: € 25\,– pro Person/Termin \nAnmeldung erforderlich!
URL:https://familienzentrum.at/event/a05_walk-your-soul-okt/
CATEGORIES:Aktiv & Gesund,FIM Andorf
ATTACH;FMTTYPE=image/webp:https://familienzentrum.at/wp-content/uploads/2025/07/FB05_WALK-your-SOUL.webp
END:VEVENT
END:VCALENDAR