BEGIN:VCALENDAR
VERSION:2.0
PRODID:-//FIM Schärding/Andorf - ECPv6.15.14//NONSGML v1.0//EN
CALSCALE:GREGORIAN
METHOD:PUBLISH
X-WR-CALNAME:FIM Schärding/Andorf
X-ORIGINAL-URL:https://familienzentrum.at
X-WR-CALDESC:Veranstaltungen für FIM Schärding/Andorf
REFRESH-INTERVAL;VALUE=DURATION:PT1H
X-Robots-Tag:noindex
X-PUBLISHED-TTL:PT1H
BEGIN:VTIMEZONE
TZID:Europe/Paris
BEGIN:DAYLIGHT
TZOFFSETFROM:+0100
TZOFFSETTO:+0200
TZNAME:CEST
DTSTART:20250330T010000
END:DAYLIGHT
BEGIN:STANDARD
TZOFFSETFROM:+0200
TZOFFSETTO:+0100
TZNAME:CET
DTSTART:20251026T010000
END:STANDARD
BEGIN:DAYLIGHT
TZOFFSETFROM:+0100
TZOFFSETTO:+0200
TZNAME:CEST
DTSTART:20260329T010000
END:DAYLIGHT
BEGIN:STANDARD
TZOFFSETFROM:+0200
TZOFFSETTO:+0100
TZNAME:CET
DTSTART:20261025T010000
END:STANDARD
BEGIN:DAYLIGHT
TZOFFSETFROM:+0100
TZOFFSETTO:+0200
TZNAME:CEST
DTSTART:20270328T010000
END:DAYLIGHT
BEGIN:STANDARD
TZOFFSETFROM:+0200
TZOFFSETTO:+0100
TZNAME:CET
DTSTART:20271031T010000
END:STANDARD
END:VTIMEZONE
BEGIN:VEVENT
DTSTART;TZID=Europe/Paris:20260409T173000
DTEND;TZID=Europe/Paris:20260409T184500
DTSTAMP:20260421T140817
CREATED:20260203T071804Z
LAST-MODIFIED:20260409T054611Z
UID:46018-1775755800-1775760300@familienzentrum.at
SUMMARY:A97_Female Yoga
DESCRIPTION:…mit ätherischen Ölen \n\n\n\nFemale Yoga ist speziell auf den weiblichen Körper\, Zyklus und weiblichen Energie ausgerichtet. Es geht darum Körper und Geist in Einklang zu bringen\, um die eigene Weiblichkeit zu stärken.  \n\n\n\nIn dieser Einheit werden sanfte hormonfreundliche Techniken aus dem Hormonyoga\, Somatic Yoga und aus der TCM angewendet. Die Kombi Yoga und speziell ausgesuchte Öle begleiten uns dabei\, unser Nervensystem zu beruhigen\, hormonelle Schwankungen auszugleichen und wieder mehr Vertrauen in unseren Körper zu generieren.  \n\n\n\nDiese Praxis ist für ein zyklisches Gleichgewicht\, dient dem Stressabbau\, hilft bei Schlafproblemen und innerer Unruhe. \n\n\n\n \n\n\n\nUhrzeit: jeweils von 17.30 bis 18.45 UhrTermine:Donnerstag\, 9.4.\, 16.4.\, 23.4.\, 30.4. und 7.5.2026 Leitung: Simone Ernst\, Zertifizierte Yogalehrerin YAA 300\, Yin Yoga LehrerinKosten: € 83\,– pro Person inkl. Skript und Roll On mit ätherischen Öl Veranstaltungsort: FIM SchärdingAnmeldung erforderlich!
URL:https://familienzentrum.at/event/a97_female-yoga/
LOCATION:FIM Schärding\, Tummelplatzstraße 7\, Schärding\, Oberösterreich\, 4780\, Österreich
CATEGORIES:Aktiv & Gesund,FIM Schärding
ATTACH;FMTTYPE=image/jpeg:https://familienzentrum.at/wp-content/uploads/2026/02/Female_Yoga_SimoneErnst.jpg
ORGANIZER;CN="FIM Sch%C3%A4rding":MAILTO:fim.schaerding@shv-schaerding.at
END:VEVENT
END:VCALENDAR