BEGIN:VCALENDAR
VERSION:2.0
PRODID:-//FIM Schärding/Andorf - ECPv6.15.14//NONSGML v1.0//EN
CALSCALE:GREGORIAN
METHOD:PUBLISH
X-WR-CALNAME:FIM Schärding/Andorf
X-ORIGINAL-URL:https://familienzentrum.at
X-WR-CALDESC:Veranstaltungen für FIM Schärding/Andorf
REFRESH-INTERVAL;VALUE=DURATION:PT1H
X-Robots-Tag:noindex
X-PUBLISHED-TTL:PT1H
BEGIN:VTIMEZONE
TZID:Europe/Paris
BEGIN:DAYLIGHT
TZOFFSETFROM:+0100
TZOFFSETTO:+0200
TZNAME:CEST
DTSTART:20250330T010000
END:DAYLIGHT
BEGIN:STANDARD
TZOFFSETFROM:+0200
TZOFFSETTO:+0100
TZNAME:CET
DTSTART:20251026T010000
END:STANDARD
BEGIN:DAYLIGHT
TZOFFSETFROM:+0100
TZOFFSETTO:+0200
TZNAME:CEST
DTSTART:20260329T010000
END:DAYLIGHT
BEGIN:STANDARD
TZOFFSETFROM:+0200
TZOFFSETTO:+0100
TZNAME:CET
DTSTART:20261025T010000
END:STANDARD
BEGIN:DAYLIGHT
TZOFFSETFROM:+0100
TZOFFSETTO:+0200
TZNAME:CEST
DTSTART:20270328T010000
END:DAYLIGHT
BEGIN:STANDARD
TZOFFSETFROM:+0200
TZOFFSETTO:+0100
TZNAME:CET
DTSTART:20271031T010000
END:STANDARD
END:VTIMEZONE
BEGIN:VEVENT
DTSTART;TZID=Europe/Paris:20260311T150000
DTEND;TZID=Europe/Paris:20260311T170000
DTSTAMP:20260421T131934
CREATED:20260226T085702Z
LAST-MODIFIED:20260306T181404Z
UID:46516-1773241200-1773248400@familienzentrum.at
SUMMARY:K02_LERNEN NEU DENKEN - mit Gedächtnistechniken
DESCRIPTION:Mama/Papa-Kind WorkshopUnser Gehirn liebt es\, in Bildern zu denken.Genau das machen wir uns zunutze\, um uns Lernstoff viel besser und schneller zu merken.In diesem Workshop geht´s um Gedächtnistechniken\, die gehirngerechtes Lernen anregen – inkl. Braingym-Übungen zur Aktivierung unserer Gedächtnisleistung. So macht Lernen plötzlich Spaß – sogar von langweiligem Lernstoff. Lernen wird zu einem aktiven Prozess\, in dem Kreativität & Fantasie eine wesentliche Rolle spielen. Durch gehirngerechtes Lernen können Informationen viel leichter und schneller aufgenommen und verknüpft werden.Diese Lerntechniken sind nicht nur ein Booster für die Motivation & Konzentration der Kinder\, sondern stärken auch Selbstwirksamkeit und Vertrauen ins eigene Können. \n\n\n\n\n\n\n\nZielgruppe: Kinder von 8 bis 10 Jahren mit einem ElternteilUhrzeit: jeweils von 15.00 bis 17.00 UhrLeitung: Mag.a Manuela Weber\, zertifizierter GREATOR LerncoachKosten: € 77\,– pro Kind mit Begleitung/TerminELTERNBILDUNGSGUTSCHEINE EINLÖSBAR! \n\n\n\nAnmeldung erforderlich!
URL:https://familienzentrum.at/event/k02_lernen-neu-denken-mit-gedaechtnistechniken-2/
LOCATION:FIM Andorf\, Schulgasse 2\, Andorf\, Oberösterreich\, 4770\, Österreich
CATEGORIES:FIM Andorf,Kinder & Jugendliche
ATTACH;FMTTYPE=image/webp:https://familienzentrum.at/wp-content/uploads/2025/07/K52_Lernen-neu-denken.webp
END:VEVENT
END:VCALENDAR