BEGIN:VCALENDAR
VERSION:2.0
PRODID:-//FIM Schärding/Andorf - ECPv6.15.14//NONSGML v1.0//EN
CALSCALE:GREGORIAN
METHOD:PUBLISH
X-WR-CALNAME:FIM Schärding/Andorf
X-ORIGINAL-URL:https://familienzentrum.at
X-WR-CALDESC:Veranstaltungen für FIM Schärding/Andorf
REFRESH-INTERVAL;VALUE=DURATION:PT1H
X-Robots-Tag:noindex
X-PUBLISHED-TTL:PT1H
BEGIN:VTIMEZONE
TZID:Europe/Paris
BEGIN:DAYLIGHT
TZOFFSETFROM:+0100
TZOFFSETTO:+0200
TZNAME:CEST
DTSTART:20240331T010000
END:DAYLIGHT
BEGIN:STANDARD
TZOFFSETFROM:+0200
TZOFFSETTO:+0100
TZNAME:CET
DTSTART:20241027T010000
END:STANDARD
BEGIN:DAYLIGHT
TZOFFSETFROM:+0100
TZOFFSETTO:+0200
TZNAME:CEST
DTSTART:20250330T010000
END:DAYLIGHT
BEGIN:STANDARD
TZOFFSETFROM:+0200
TZOFFSETTO:+0100
TZNAME:CET
DTSTART:20251026T010000
END:STANDARD
BEGIN:DAYLIGHT
TZOFFSETFROM:+0100
TZOFFSETTO:+0200
TZNAME:CEST
DTSTART:20260329T010000
END:DAYLIGHT
BEGIN:STANDARD
TZOFFSETFROM:+0200
TZOFFSETTO:+0100
TZNAME:CET
DTSTART:20261025T010000
END:STANDARD
END:VTIMEZONE
BEGIN:VEVENT
DTSTART;TZID=Europe/Paris:20251202T160000
DTEND;TZID=Europe/Paris:20251202T180000
DTSTAMP:20260421T102541
CREATED:20250723T144648Z
LAST-MODIFIED:20251015T084819Z
UID:40844-1764691200-1764698400@familienzentrum.at
SUMMARY:K58_TÖPFERN FÜR WEIHNACHTEN
DESCRIPTION:Es gibt praktisch kein Material\, an das man sich so frei herantasten kann\, wie an Ton. Die Kinder können die Masse durchkneten\, formen\, ausstechen\, stempeln um speziell zum Muttertag mit etwas Selbstgemachtem zu überraschen.\nAn diesem gemütlichen Nachmittag werden wir gemeinsam schöne Unikate herstellen\, welche dann verschenkt werden können. \nZielgruppe: Kinder ab 6 Jahre\nUhrzeit: jeweils von 16.00 bis 18.00 Uhr\nTermine:\nTöpfern am Dienstag\, 2.12.2025\nGlasieren am Dienstag\, 9.12.2025\nLeitung: Manuela Schneiderbauer\, Seminarbäuerin\, Dipl. Kräuterpädagogin\nKosten: € 33\,– pro Kind/2 Termine inkl. Material\nVeranstaltungsort: 4791 Rainbach im Innkreis\, Haselbach 5 \nAnmeldung erforderlich!
URL:https://familienzentrum.at/event/k58_toepfern-fuer-weihnachten/
CATEGORIES:FIM on Tour,Kinder & Jugendliche
ATTACH;FMTTYPE=image/webp:https://familienzentrum.at/wp-content/uploads/2025/07/K58_Toepfern-fuer-den-Muttertag.webp
END:VEVENT
END:VCALENDAR