BEGIN:VCALENDAR
VERSION:2.0
PRODID:-//FIM Schärding/Andorf - ECPv6.15.14//NONSGML v1.0//EN
CALSCALE:GREGORIAN
METHOD:PUBLISH
X-WR-CALNAME:FIM Schärding/Andorf
X-ORIGINAL-URL:https://familienzentrum.at
X-WR-CALDESC:Veranstaltungen für FIM Schärding/Andorf
REFRESH-INTERVAL;VALUE=DURATION:PT1H
X-Robots-Tag:noindex
X-PUBLISHED-TTL:PT1H
BEGIN:VTIMEZONE
TZID:UTC
BEGIN:STANDARD
TZOFFSETFROM:+0000
TZOFFSETTO:+0000
TZNAME:UTC
DTSTART:20230101T000000
END:STANDARD
END:VTIMEZONE
BEGIN:VEVENT
DTSTART;TZID=UTC:20240615T140000
DTEND;TZID=UTC:20240615T200000
DTSTAMP:20260421T102433
CREATED:20230731T230022Z
LAST-MODIFIED:20231130T093041Z
UID:22087-1718460000-1718481600@familienzentrum.at
SUMMARY:EK07_Das neue Familienstellen_Juni
DESCRIPTION:Die Aufstellungsarbeit ist eine Möglichkeit\, bei unterschiedlichen Lebensfragen und Lebensthemen Belastendes sichtbar zu machen. Dabei erhält man Klarheit\, was sich tatsächlich dahinter verbirgt und wie der individuelle Lösungsprozess aussehen kann. Das Familienstellen schafft Ordnung und kann im Familien-\, Beziehungs\,- Berufskontext oder bei Körpersymptomen angewandt werden. \nTermine und Uhrzeit:\nSamstag\, 15.6.2024 von 14.00 bis 20.00 Uhr\nLeitung: Sandra Gillesberger\, Pikler®-Pädagogin\, Kleinstkind- und Kindergartenpädagogin\, psychologische Beraterin & Familienmentorin\, vierfache Mutter\nKosten: € 132\,– für Person mit eigenem Thema & € 33\,–pro Stellvertreter*in\nVeranstaltungsort: FIM Schärding\nAnmeldung erforderlich!
URL:https://familienzentrum.at/event/vorschau_das-neue-familienstellen_juni/
LOCATION:FIM Schärding\, Tummelplatzstraße 7\, Schärding\, Oberösterreich\, 4780\, Österreich
CATEGORIES:FIM Schärding
ATTACH;FMTTYPE=image/png:https://familienzentrum.at/wp-content/uploads/2023/02/Logo_Gillesberger.png
ORGANIZER;CN="FIM Sch%C3%A4rding":MAILTO:fim.schaerding@shv-schaerding.at
END:VEVENT
END:VCALENDAR