BEGIN:VCALENDAR
VERSION:2.0
PRODID:-//FIM Schärding/Andorf - ECPv6.15.14//NONSGML v1.0//EN
CALSCALE:GREGORIAN
METHOD:PUBLISH
X-WR-CALNAME:FIM Schärding/Andorf
X-ORIGINAL-URL:https://familienzentrum.at
X-WR-CALDESC:Veranstaltungen für FIM Schärding/Andorf
REFRESH-INTERVAL;VALUE=DURATION:PT1H
X-Robots-Tag:noindex
X-PUBLISHED-TTL:PT1H
BEGIN:VTIMEZONE
TZID:Europe/Paris
BEGIN:DAYLIGHT
TZOFFSETFROM:+0100
TZOFFSETTO:+0200
TZNAME:CEST
DTSTART:20250330T010000
END:DAYLIGHT
BEGIN:STANDARD
TZOFFSETFROM:+0200
TZOFFSETTO:+0100
TZNAME:CET
DTSTART:20251026T010000
END:STANDARD
BEGIN:DAYLIGHT
TZOFFSETFROM:+0100
TZOFFSETTO:+0200
TZNAME:CEST
DTSTART:20260329T010000
END:DAYLIGHT
BEGIN:STANDARD
TZOFFSETFROM:+0200
TZOFFSETTO:+0100
TZNAME:CET
DTSTART:20261025T010000
END:STANDARD
BEGIN:DAYLIGHT
TZOFFSETFROM:+0100
TZOFFSETTO:+0200
TZNAME:CEST
DTSTART:20270328T010000
END:DAYLIGHT
BEGIN:STANDARD
TZOFFSETFROM:+0200
TZOFFSETTO:+0100
TZNAME:CET
DTSTART:20271031T010000
END:STANDARD
END:VTIMEZONE
BEGIN:VEVENT
DTSTART;TZID=Europe/Paris:20260107T193000
DTEND;TZID=Europe/Paris:20260107T203000
DTSTAMP:20260421T101928
CREATED:20250728T141556Z
LAST-MODIFIED:20251209T164957Z
UID:41135-1767814200-1767817800@familienzentrum.at
SUMMARY:A02_QI GONG - Block 1
DESCRIPTION:Qi Gong ist ein bewährtes Übungssystem aus China. Hier kommen Körper\, Geist und Seele durch die sanften Bewegungen schnell ins Gleichgewicht.Qi Gong wirkt positiv auf:• Gesundheit und Wohlbefinden• Beweglichkeit• Blut-\, Lymph- und Energiefluss im Körper• Konzentrationsfähigkeit bei gleichzeitiger Entspannung• Nervensystem• Immunsystem• Zivilisationskrankheiten (Rückenschmerzen\, Bluthochdruck\, Rheuma etc.)Die Übungen sind eine harmonische Verbindung von Achtsamkeit\, Atmung und Bewegung. \nTermine und Uhrzeiten: jeweils von 19.30 bis 20.30 UhrBlock 1: Mittwoch\, 7.1.\, 14.1.\, 21.1.\, 28.1.\, 4.2. und 11.2.2026Block 2: Mittwoch\, 22.4.\, 29.4.\, 6.5.\, 13.5.\, 20.5. und 27.5.2026Leitung: Angela Adjan\, QI GONG-Lehrerin\, geprüfte AYA-Yogalehrerin\, HeilpraktikerinKosten: € 73\,– pro Person/6 Termine \nAnmeldung erforderlich!
URL:https://familienzentrum.at/event/vorschau_qi-gong-2/
LOCATION:FIM Andorf\, Schulgasse 2\, Andorf\, Oberösterreich\, 4770\, Österreich
CATEGORIES:Aktiv & Gesund,FIM Andorf
ATTACH;FMTTYPE=image/webp:https://familienzentrum.at/wp-content/uploads/2024/12/BG16_QiGong.webp
END:VEVENT
END:VCALENDAR