BEGIN:VCALENDAR
VERSION:2.0
PRODID:-//FIM Schärding/Andorf - ECPv6.15.14//NONSGML v1.0//EN
CALSCALE:GREGORIAN
METHOD:PUBLISH
X-WR-CALNAME:FIM Schärding/Andorf
X-ORIGINAL-URL:https://familienzentrum.at
X-WR-CALDESC:Veranstaltungen für FIM Schärding/Andorf
REFRESH-INTERVAL;VALUE=DURATION:PT1H
X-Robots-Tag:noindex
X-PUBLISHED-TTL:PT1H
BEGIN:VTIMEZONE
TZID:Europe/Paris
BEGIN:DAYLIGHT
TZOFFSETFROM:+0100
TZOFFSETTO:+0200
TZNAME:CEST
DTSTART:20250330T010000
END:DAYLIGHT
BEGIN:STANDARD
TZOFFSETFROM:+0200
TZOFFSETTO:+0100
TZNAME:CET
DTSTART:20251026T010000
END:STANDARD
BEGIN:DAYLIGHT
TZOFFSETFROM:+0100
TZOFFSETTO:+0200
TZNAME:CEST
DTSTART:20260329T010000
END:DAYLIGHT
BEGIN:STANDARD
TZOFFSETFROM:+0200
TZOFFSETTO:+0100
TZNAME:CET
DTSTART:20261025T010000
END:STANDARD
BEGIN:DAYLIGHT
TZOFFSETFROM:+0100
TZOFFSETTO:+0200
TZNAME:CEST
DTSTART:20270328T010000
END:DAYLIGHT
BEGIN:STANDARD
TZOFFSETFROM:+0200
TZOFFSETTO:+0100
TZNAME:CET
DTSTART:20271031T010000
END:STANDARD
END:VTIMEZONE
BEGIN:VEVENT
DTSTART;TZID=Europe/Paris:20260422T090000
DTEND;TZID=Europe/Paris:20260422T103000
DTSTAMP:20260422T122001
CREATED:20260313T112101Z
LAST-MODIFIED:20260320T065806Z
UID:10019766-1776848400-1776853800@familienzentrum.at
SUMMARY:J100_Trittsicher und Aktiv
DESCRIPTION:Sturzprävention – Lebensqualität durch Bewegung \n\n\n\nStürze bleiben vor allem im Alter nicht ohne Folgen. Dazu zählen Verletzungen\, Angst vor weiteren Stürzen und die Einschränkung der Aktivitäten. Das muss nicht sein. Mit dem Angebot von „Trittsicher & aktiv“ können Sie gezielt vorbeugen. Machen Sie mit! Jede dritte Person über 65 Jahre stürzt einmal pro Jahr. Mit Sturzprävention können schwere Stürze verhindert  werden. \n\n\n\nEin kostenloses Trainingsprogramm fördert die Beweglichkeit ebenso wie die Selbstständigkeit und beugt Problemen im Alltag vor. In einem 12-wöchigen Sturzpräventionskurs verbessern die Teilnehmenden in Kleingruppen durch spezielle Übungen Gleichgewicht\, Kraft und Reaktionsvermögen. Unter professioneller Anleitung bekommen sie individuelle Tipps\, wie ihre Beweglichkeit und Sicherheit im Alltag bestmöglich bewahrt und Stürzen vorgebeugt werden kann. Durch regelmäßige Übungen\, die einfach auch zuhause durchgeführt werden können\, verbessert sich die Selbsteinschätzung und die Lebensqualität steigt. \n\n\n\nTermine: Mittwoch\, 22.04.\, 06.05.\, 27.05.\, 03.06.\, 17.06.\, 01.07.Uhrzeit: von 09.00 bis 10.30 UhrLeitung: Kristina Hatzinger\, MSc.\, SportwissenschaftlerinKosten: kostenlos\, In Kooperation mit ÖGK und dem Institut für sportwissenschaftliche Beratung Mag. Harald Jansenberger \n\n\n\nAnmeldung erforderlich!
URL:https://familienzentrum.at/event/j100_trittsicher-und-aktiv/
LOCATION:FIM Andorf\, Schulgasse 2\, Andorf\, Oberösterreich\, 4770\, Österreich
CATEGORIES:FIM Andorf,Junggebliebene
ATTACH;FMTTYPE=image/jpeg:https://familienzentrum.at/wp-content/uploads/2026/03/J04_Trittsicher-aktiv-scaled.jpg
END:VEVENT
BEGIN:VEVENT
DTSTART;TZID=Europe/Paris:20260422T133000
DTEND;TZID=Europe/Paris:20260422T150000
DTSTAMP:20260422T122001
CREATED:20260126T121244Z
LAST-MODIFIED:20260209T121741Z
UID:10019742-1776864600-1776870000@familienzentrum.at
SUMMARY:J04_Trittsicher & Aktiv_Block2
DESCRIPTION:Sturzprävention – Lebensqualität durch Bewegung \n\n\n\n\n\n\n\nStürze bleiben vor allem im Alter nicht ohne Folgen. Dazu zählen Verletzungen\, Angst vor weiteren Stürzen und die Einschränkung der Aktivitäten. Das muss nicht sein. Mit dem Angebot von „Trittsicher & aktiv“ können Sie gezielt vorbeugen. Machen Sie mit! Jede dritte Person über 65 Jahre stürzt einmal pro Jahr. Mit Sturzprävention können schwere Stürze verhindert werden.Ein kostenloses Trainingsprogramm fördert die Beweglichkeit ebenso wie die Selbstständigkeit und beugt Problemen im Alltag vor. In einem 12-wöchigen Sturzpräventionskurs verbessern die Teilnehmenden in Kleingruppen durch spezielle Übungen Gleichgewicht\, Kraft und Reaktionsvermögen. Unter professioneller Anleitung bekommen sie individuelle Tipps\, wie ihre Beweglichkeit und Sicherheit im Alltag bestmöglich bewahrt und Stürzen vorgebeugt werden kann. Durch regelmäßige Übungen\, die einfach auch zuhause durchgeführt werden können\, verbessert sich die Selbsteinschätzung und die Lebensqualität steigt. \n\n\n\n\nZielgruppe: Selbständig lebende Personen ab 65 Jahren\, in Oberösterreich versichert (jede Versicherung)Uhrzeit: jeweils von 13.30 bis 15.00 UhrTermine: Mittwoch\, 22.4.\, 6.5.\, 20.5.\, 3.6.\, 17.6. und 1.7.2026Leitung: Kristina Hatzinger MSc.\, SportwissenschaftlerinKosten: kostenlosIn Kooperation mit ÖGK und dem Institut für sportwissenschaftliche Beratung Mag. Harald Jansenberger
URL:https://familienzentrum.at/event/j04_trittsicher-aktiv_block2/
LOCATION:FIM Schärding\, Tummelplatzstraße 7\, Schärding\, Oberösterreich\, 4780\, Österreich
CATEGORIES:FIM Schärding,Junggebliebene
ATTACH;FMTTYPE=image/jpeg:https://familienzentrum.at/wp-content/uploads/2025/07/J08_Trittsicher-aktiv-scaled.jpeg
ORGANIZER;CN="FIM Sch%C3%A4rding":MAILTO:fim.schaerding@shv-schaerding.at
END:VEVENT
BEGIN:VEVENT
DTSTART;TZID=Europe/Paris:20260422T180000
DTEND;TZID=Europe/Paris:20260422T191500
DTSTAMP:20260422T122001
CREATED:20251204T114346Z
LAST-MODIFIED:20251209T154300Z
UID:10019635-1776880800-1776885300@familienzentrum.at
SUMMARY:A01_Yoga Block 3
DESCRIPTION:Yoga ist für mich eine Erfahrung von Achtsamkeit und Bewusstsein\, von Veränderung und Neuorientierung.Yoga ist wie eine Reise. In meinem Unterricht geht es darum\, eine Verbindung zwischen Körper\, Geist und Seele mit Fröhlichkeit und Freude/Leichtigkeit herzustellen. Ich vermittle dir über die Freude an der Bewegung dein SEIN\, deinen MOMENT IM ATEM\, deine VERBINDUNG ZU DIR UND DEINER UMWELT.Meine Yogastile sind vielseitig abgestimmt auf die Bedürfnisse meiner Schüler*innen.Meine Unterrichtsstile reichen von kraftvollem\, dynamischem Yoga bis zum therapeutischen Yoga. \n\n\n\nUhrzeit: jeweils von 18.00 bis 19.15 UhrBlock 3: Mittwoch\, 22.4.\, 29.4.\, 6.5.\, 13.5.\, 20.5. und 27.5.2026Leitung: Angela Adjan\, QI GONG-Lehrerin\, geprüfte AYA-Yogalehrerin\, HeilpraktikerinKosten: € 86\,– pro Person/6 TermineVeranstaltungsort: FIM Andorf \n\n\n\nAnmeldung erforderlich!
URL:https://familienzentrum.at/event/a01_yoga-block-3/
LOCATION:FIM Andorf\, Schulgasse 2\, Andorf\, Oberösterreich\, 4770\, Österreich
CATEGORIES:Aktiv & Gesund,FIM Andorf
ATTACH;FMTTYPE=image/webp:https://familienzentrum.at/wp-content/uploads/2024/08/BG01_Yoga.webp
END:VEVENT
BEGIN:VEVENT
DTSTART;TZID=Europe/Paris:20260422T193000
DTEND;TZID=Europe/Paris:20260422T203000
DTSTAMP:20260422T122001
CREATED:20251204T115706Z
LAST-MODIFIED:20251209T185303Z
UID:10019639-1776886200-1776889800@familienzentrum.at
SUMMARY:A02_QI Gong Block 2
DESCRIPTION:Qi Gong ist ein bewährtes Übungssystem aus China. Hier kommen Körper\, Geist undSeele durch die sanften Bewegungen schnell ins Gleichgewicht.Qi Gong wirkt positiv auf:• Gesundheit und Wohlbefinden• Beweglichkeit• Blut-\, Lymph- und Energiefluss im Körper• Konzentrationsfähigkeit bei gleichzeitiger Entspannung• Nervensystem• Immunsystem• Zivilisationskrankheiten (Rückenschmerzen\, Bluthochdruck\, Rheuma etc.)Die Übungen sind eine harmonische Verbindung von Achtsamkeit\, Atmung und Bewegung. \n\n\n\nUhrzeit: jeweils von 19.30 bis 20.30 UhrBlock 2: Mittwoch\, 22.4.\, 29.4.\, 6.5.\, 13.5.\, 20.5. und 27.5.2026Leitung: Angela Adjan\, QI GONG-Lehrerin\, geprüfte AYA-Yogalehrerin\, HeilpraktikerinKosten: € 73\,– pro Person/6 TermineVeranstaltungsort: FIM Andorf \n\n\n\nAnmeldung erforderlich!
URL:https://familienzentrum.at/event/a02_qi-gong-block-2/
LOCATION:FIM Andorf\, Schulgasse 2\, Andorf\, Oberösterreich\, 4770\, Österreich
CATEGORIES:Aktiv & Gesund,FIM Andorf
ATTACH;FMTTYPE=image/webp:https://familienzentrum.at/wp-content/uploads/2024/12/BG16_QiGong.webp
END:VEVENT
END:VCALENDAR