BEGIN:VCALENDAR
VERSION:2.0
PRODID:-//FIM Schärding/Andorf - ECPv6.15.14//NONSGML v1.0//EN
CALSCALE:GREGORIAN
METHOD:PUBLISH
X-WR-CALNAME:FIM Schärding/Andorf
X-ORIGINAL-URL:https://familienzentrum.at
X-WR-CALDESC:Veranstaltungen für FIM Schärding/Andorf
REFRESH-INTERVAL;VALUE=DURATION:PT1H
X-Robots-Tag:noindex
X-PUBLISHED-TTL:PT1H
BEGIN:VTIMEZONE
TZID:Europe/Paris
BEGIN:DAYLIGHT
TZOFFSETFROM:+0100
TZOFFSETTO:+0200
TZNAME:CEST
DTSTART:20250330T010000
END:DAYLIGHT
BEGIN:STANDARD
TZOFFSETFROM:+0200
TZOFFSETTO:+0100
TZNAME:CET
DTSTART:20251026T010000
END:STANDARD
BEGIN:DAYLIGHT
TZOFFSETFROM:+0100
TZOFFSETTO:+0200
TZNAME:CEST
DTSTART:20260329T010000
END:DAYLIGHT
BEGIN:STANDARD
TZOFFSETFROM:+0200
TZOFFSETTO:+0100
TZNAME:CET
DTSTART:20261025T010000
END:STANDARD
BEGIN:DAYLIGHT
TZOFFSETFROM:+0100
TZOFFSETTO:+0200
TZNAME:CEST
DTSTART:20270328T010000
END:DAYLIGHT
BEGIN:STANDARD
TZOFFSETFROM:+0200
TZOFFSETTO:+0100
TZNAME:CET
DTSTART:20271031T010000
END:STANDARD
END:VTIMEZONE
BEGIN:VEVENT
DTSTART;TZID=Europe/Paris:20260423T090000
DTEND;TZID=Europe/Paris:20260423T110000
DTSTAMP:20260423T014635
CREATED:20251202T200851Z
LAST-MODIFIED:20251202T200911Z
UID:10019614-1776934800-1776942000@familienzentrum.at
SUMMARY:K03_Kleine Freunde & Mamas Treff
DESCRIPTION:Hereinspaziert und herzlich willkommen beim offenen Treffpunkt im FIM Andorf!Suchst du Kontakt zu anderen Familien?Möchtest du ein entspanntes Treffen mit deinen Freund*innen oder Bekannten? Du interessierst dich für das FIM und möchtest es kennenlernen? Dann freuen wir uns auf einen Besuch von dir bzw. euch.Die Kinder können andere Kinder treffen\, während die Großen gemütlich plaudern und Kaffee trinken. Wir schaffen für euch eine einladende Atmosphäre\, in der ihr auch die Möglichkeit habt\, unser Haus besser kennen zu lernen. Gerne nehmen wir uns bei offenen Fragen Zeit für ein persönliches Gespräch. \n\n\n\nUhrzeit: jeweils von 9.00 bis 11.00 UhrTermine: Donnerstag\, 26.2.2026Leitung: Martina Reitinger-Uitz\, Kindergartenpädagogin\, Spielgruppenleiterin\, Früherzieherin\, ElternbildnerinKosten: freiwillige Spende
URL:https://familienzentrum.at/event/k03_kleine-freunde-mamas-treff-2/
LOCATION:FIM Andorf\, Schulgasse 2\, Andorf\, Oberösterreich\, 4770\, Österreich
CATEGORIES:FIM Andorf,Kinder & Jugendliche,Spielgruppen
ATTACH;FMTTYPE=image/webp:https://familienzentrum.at/wp-content/uploads/2025/12/K03_Kleine-Freunde-_-Mamas-Treff-scaled.webp
END:VEVENT
END:VCALENDAR